BEGIN:VCALENDAR
VERSION:2.0
PRODID:-//Boulevard Music - ECPv6.15.13//NONSGML v1.0//EN
CALSCALE:GREGORIAN
METHOD:PUBLISH
X-ORIGINAL-URL:https://www.boulevardmusic.com
X-WR-CALDESC:Events for Boulevard Music
REFRESH-INTERVAL;VALUE=DURATION:PT1H
X-Robots-Tag:noindex
X-PUBLISHED-TTL:PT1H
BEGIN:VTIMEZONE
TZID:America/Los_Angeles
BEGIN:DAYLIGHT
TZOFFSETFROM:-0800
TZOFFSETTO:-0700
TZNAME:PDT
DTSTART:20250309T100000
END:DAYLIGHT
BEGIN:STANDARD
TZOFFSETFROM:-0700
TZOFFSETTO:-0800
TZNAME:PST
DTSTART:20251102T090000
END:STANDARD
BEGIN:DAYLIGHT
TZOFFSETFROM:-0800
TZOFFSETTO:-0700
TZNAME:PDT
DTSTART:20260308T100000
END:DAYLIGHT
BEGIN:STANDARD
TZOFFSETFROM:-0700
TZOFFSETTO:-0800
TZNAME:PST
DTSTART:20261101T090000
END:STANDARD
BEGIN:DAYLIGHT
TZOFFSETFROM:-0800
TZOFFSETTO:-0700
TZNAME:PDT
DTSTART:20270314T100000
END:DAYLIGHT
BEGIN:STANDARD
TZOFFSETFROM:-0700
TZOFFSETTO:-0800
TZNAME:PST
DTSTART:20271107T090000
END:STANDARD
END:VTIMEZONE
BEGIN:VEVENT
DTSTART;TZID=America/Los_Angeles:20260425T200000
DTEND;TZID=America/Los_Angeles:20260425T220000
DTSTAMP:20260420T102934
CREATED:20260119T183342Z
LAST-MODIFIED:20260119T183342Z
UID:85168-1777147200-1777154400@www.boulevardmusic.com
SUMMARY:THE FOLK COLLECTION
DESCRIPTION:The Folk Collection impresses audiences of all ages\, with set lists full of beloved songs like “This Land is Your Land\,” “Blowin’ in the Wind\,” “Greenback Dollar\,” and “City of New Orleans.” Renee Gaumond\, formerly of Berkeley’s Freight & Salvage Coffee House\, has said\, “The Folk Collection is a testament to the enduring quality of this upbeat and universal music\, and the best way to enjoy it is to sing and clap right along with them. Bring your kids\, because they’ll have a great time\, too.” In addition to performing several of their original songs\, The Folk Collection’s arrangement of a medley of TV western theme songs from the 50’s (including Bonanza\, Davy Crockett\, and Rawhide)\, is always one of the highlights of their show. It all started in the mid 60’s\, when Hollywood High School buddies Ed Labowitz and Tony Unger performed in a local folk trio. After the military\, Tony was a touring musician and pop singer for 15 years. Ed went on to law school at Cal. Mike Sirota played folk songs as a camp counselor in Los Angeles and then graduated and received his teaching credential from Cal. Flash forward to the new century. After many years\, Ed and Tony put their old folk trio together\, only this time they added new friend\, Mike\, and The Folk Collection was formed. Their memorable three-part harmonies now bring family and friends together\, making even more merriment and memories. Labowitz is an L.A. entertainment lawyer\, Sirota serves as a cantorial soloist at two Southern California synagogues\, and Unger is the pastor of a church in Bishop\, California. Just like the folk songs they have performed around the country\, the magic lies within seemingly disparate elements coming together as one\, creating the unforgettable music that continues to shape our lives. “We grew up loving this sort of music\, and we’ve been thrilled by the amazing response to our shows from people of all ages who really get a kick out of joining in with the words and harmonies. The show is all about folk music and good clean jokes\,” says Labowitz. Unger adds\, “The Folk Collection provides one of those all-too-rare opportunities for family friendly fun. We get a real kick out of watching teenagers reluctantly coming to our gigs as a favor to a their mom and dad\, and then watching them walk out of there smiling and humming the tunes that we all love so much. No matter how different we may be\, the music never fails to bring us together.” \nAdd to cart
URL:https://www.boulevardmusic.com/event/the-folk-collection-9/
CATEGORIES:Live Music
ATTACH;FMTTYPE=image/jpeg:https://www.boulevardmusic.com/wp-content/uploads/2022/10/Folk-Collection-2022.jpg
END:VEVENT
BEGIN:VEVENT
DTSTART;TZID=America/Los_Angeles:20260509T200000
DTEND;TZID=America/Los_Angeles:20260509T220000
DTSTAMP:20260420T102934
CREATED:20260131T010132Z
LAST-MODIFIED:20260201T221250Z
UID:85325-1778356800-1778364000@www.boulevardmusic.com
SUMMARY:JAMES LEE STANLEY
DESCRIPTION:With a history that includes 5 years on StarTrek Deep Space Nine as the singing Klingon amongst other roles; 3 years as Steven Wright’s opening act; tours with Bonnie Raitt\, the Dixie Dregs\, Robin Trower and Robin Williams; the composer of the hits Coming Out of Hiding\, I Don’t Want To Talk About It and Plenty of Reason as well as scoring the PrimeTime CBS TV Special\, CATHY; 32 solo CD’s and duet CD’s with Peter Tork\, Cliff Eberhardt\, Dan Navarro or John Batdorf\, you know you are in for an evening rich in musical chops\, great songs and a man who\, his remarkable singing and guitar playing notwithstanding\, could be a stand up comedian… As they said in the Village Voice\, “with James Lee Stanley you get it all”. And his recent documentary\, The Opening Act-The Extraordinary Journey of James Lee Stanley\, has already garnered 30 independent film awards\, including Best Documentary and Best Soundtrack. The film covers how James Lee Stanley has been the opening act for virtually every famous performer in music and comedy for over 50 years — Linda Ronstadt\, Chicago\, Poco\, Stephen Stills\, David Crosby\, America\, Emmylou Harris\, The Grass Roots\, Ricky Skaggs\, Little Feat\, comedy legends Robin Williams\, Steven Wright\, Andy Kaufman — the list goes on & on. His latest CD is The Day Today released April 30\, 2024 and James will perform some of the fantastic songs off the album. \nhttps://www.jamesleestanley.com \nAdd to cart
URL:https://www.boulevardmusic.com/event/james-lee-stanley-9/
CATEGORIES:Live Music
ATTACH;FMTTYPE=image/jpeg:https://www.boulevardmusic.com/wp-content/uploads/2017/06/James-Lee-Stanley-.jpg
END:VEVENT
BEGIN:VEVENT
DTSTART;TZID=America/Los_Angeles:20260516T200000
DTEND;TZID=America/Los_Angeles:20260516T220000
DTSTAMP:20260420T102934
CREATED:20260217T210224Z
LAST-MODIFIED:20260217T210224Z
UID:85552-1778961600-1778968800@www.boulevardmusic.com
SUMMARY:INCENDIO
DESCRIPTION:The latin guitar world fusion group Incendio with elements of Flamenco\, rock\, and jazz all fused together and done with twin guitars and bass. They subtly bring influences as diverse as Weather Report\, Jimi Hendrix\, XTC\, Paco de Lucia\, Buddha Bar and Joni Mitchell to bear on their musical tapestry. Incendio Features: Liza Carbe on bass who was asked to play guitar and sing on Lindsey Buckingham’s solo tour across the United States and Canada. Amongst the highlights of this tour was getting to play “Go Your Own Way” with Lindsey every night\, playing Radio City Music Hall\, and opening many dates for Tina Turner as part of her “farewell” stadium tour. JP Durand on guitar who through his early years was doing Jimi Hendrix and later morphed into Paco de Lucia. You can hear elements of both in his music. The JP in his name is short for Jean Pierre\, although it might as well stand for Jimi and Paco. Jim Stubblefield with his many influences including Jazz and World Music creating exciting solos up and down the neck of his guitar. Three fabulous players who come together like an incredible mix of exciting and sensitive original compositions. \nhttps://incendioband.com/ \nAdd to cart
URL:https://www.boulevardmusic.com/event/incendio-3/
CATEGORIES:Live Music
ATTACH;FMTTYPE=image/jpeg:https://www.boulevardmusic.com/wp-content/uploads/2019/03/INCENDIO-2.jpg
END:VEVENT
BEGIN:VEVENT
DTSTART;TZID=America/Los_Angeles:20260606T200000
DTEND;TZID=America/Los_Angeles:20260606T220000
DTSTAMP:20260420T102934
CREATED:20260411T195556Z
LAST-MODIFIED:20260411T195556Z
UID:86282-1780776000-1780783200@www.boulevardmusic.com
SUMMARY:ACOUSTIC ECHOES
DESCRIPTION:A powerful new live music experience featuring an incredible lineup of seasoned performers bringing classic ballads to life through an all-new acoustic sound. Featuring Lead singer from Led Zepagain Swan Montgomery on vocals\, Dean DeLorenzo on acoustic guitars\, Sir Douglas Baker on fretless bass and vocals\, Erin Hawkins on vocals and cello\, and Gary Ponder on percussion\, Acoustic Echoes brings together members from Led Zepagain\, Escape\, Copycats\, Never a Dull Moment\, and more. The result is an intimate\, soulful\, and unforgettable musical journey. If you love timeless songs\, powerful musicianship\, and fresh acoustic interpretations of beloved classics\, these are shows you will not want to miss. Come experience Acoustic Echoes live and discover a new sound created by an exceptional group of artists. \nAdd to cart
URL:https://www.boulevardmusic.com/event/acoustic-echoes/
CATEGORIES:Live Music
ATTACH;FMTTYPE=image/jpeg:https://www.boulevardmusic.com/wp-content/uploads/2026/04/ACOUSTIC-ECHOES-POSTER-fixed.jpg
END:VEVENT
BEGIN:VEVENT
DTSTART;TZID=America/Los_Angeles:20260612T200000
DTEND;TZID=America/Los_Angeles:20260612T220000
DTSTAMP:20260420T102934
CREATED:20260316T194747Z
LAST-MODIFIED:20260316T205828Z
UID:85866-1781294400-1781301600@www.boulevardmusic.com
SUMMARY:CLIVE CARROLL
DESCRIPTION:British guitarist Clive Carroll has a deep knowledge of music history\, arranges\, composes\, can lay down a blues with the best of them\, and is a captivating performer. Born in England\, Clive began his musical journey in Chelmsford\, Essex. His parents had a taste for American country and old time music and it wasn’t long before Clive was playing in the family band on a homemade banjo. By his early teens\, guitar in hand\, Clive was traversing the worlds of soul\, pop\, funk\, and traditional Irish music\, balancing his affinity for Slayer with the etudes of Tárrega. This breadth of musical curiosity was to become one of his strengths; even as a child Clive was as comfortable accompanying a group of folk singers as he was jamming along to Nirvana or performing standards with the Essex Youth Orchestra. Clive went on to earn a 1st Class Honours Degree in Composition and Guitar from the famed Trinity College of Music in London\, all the while balancing his classical work with forays into the world of the steel string guitar. By the time he graduated from Trinity\, Clive had not only penned orchestral works\, he had written an album’s worth of solo acoustic guitar music. A chance meeting with English guitar legend John Renbourn proved the catalyst for Clive’s debut album\, “Sixth Sense”\, which Renbourn deemed “a milestone in the journey of the steel-string guitar”. He subsequently took Clive on the road with him and the pair toured North America and Europe together\, launching Clive’s solo performing career. Since then\, Clive has established himself as one of the world’s premier acoustic guitar players. He has toured across Europe\, Australia\, the Middle East and North America\, garnering praise for his sublime performances of everything from 16th and 17th century lute music to Jazz standards\, Blues\, Irish reels and his own groundbreaking compositions. Lauded guitarist Tommy Emmanuel (“Clive Carroll is one of my favorite guitarists\, Trust me go see him!”) has also taken Clive on the road\, and similar nods to Clive’s musicianship have been given by everyone fromclassical guitarist John Williams to Madonna\, Guy Ritchie\, Michelin award-winning chef Jean-Christophe Novelli\, and the Sultanate of Oman. To date\, Clive has released five solo albums; “Sixth Sense”\, “The Red Guitar” (which Tommy Emmanuel cites as one of his desert island discs!)\, “Life in Colour” and “The Furthest Tree”. Clive has also written music for television and film\, most notably composing the music for the film “Driving Lessons”\, which features Julie Walters and Rupert Grint of Harry Potter fame. Clive’s newest CD is “The Abbot” (2023). Clive Carroll playing the music of John Renbourn. 2000  \n–  “Probably the best and most original young acoustic guitarist/composer in Britain.”  \n–  Acoustic Guitar Magazine 2021 – “…arguably the most accomplished fingerstylist in the world today…” – Total Guitar Magazine \nhttps://www.clivecarroll.co.uk/index.html \nAdd to cart	\n			\n \n 
URL:https://www.boulevardmusic.com/event/clive-carroll-3/
CATEGORIES:Live Music
ATTACH;FMTTYPE=image/jpeg:https://www.boulevardmusic.com/wp-content/uploads/2018/12/Clive-Carroll.jpg
END:VEVENT
BEGIN:VEVENT
DTSTART;TZID=America/Los_Angeles:20260620T200000
DTEND;TZID=America/Los_Angeles:20260620T220000
DTSTAMP:20260420T102934
CREATED:20260316T201748Z
LAST-MODIFIED:20260316T201748Z
UID:85874-1781985600-1781992800@www.boulevardmusic.com
SUMMARY:RICHARD SMITH
DESCRIPTION:Richard Smith is one of the greatest guitar players on the planet. Incredible fingerstyle player (National Fingerstyle Guitar Champion) and\, also\, one of the hottest Bebop/Django/Flatpicking players in the world\, Richard Smith presents an evening of Travis picking\, ragtime\, jazz\, and classical. The playing ranges from amazing to flashy and beautiful. Here are a couple of quotes regarding Richard from Chet Atkins and Jerry Reed. “The most amazing guy I know on the guitar. He can play anything I know\, only better.”—Chet Atkins\, CGP Richard Smith owns many instruments\, but his most prized is a guitar\, which has written on it\, “To my hero\, Richard” — signed Jerry Reed and Chet Atkins Mandell says “Two Thumbpicks Up! Way up.” \nhttps://www.richardsmithmusic.com \nAdd to cart
URL:https://www.boulevardmusic.com/event/richard-smith-6/
CATEGORIES:Live Music
ATTACH;FMTTYPE=image/jpeg:https://www.boulevardmusic.com/wp-content/uploads/2016/07/Richard-Smith.jpg
END:VEVENT
END:VCALENDAR