BEGIN:VCALENDAR
VERSION:2.0
PRODID:-//Boulevard Music - ECPv6.15.13//NONSGML v1.0//EN
CALSCALE:GREGORIAN
METHOD:PUBLISH
X-WR-CALNAME:Boulevard Music
X-ORIGINAL-URL:https://www.boulevardmusic.com
X-WR-CALDESC:Events for Boulevard Music
REFRESH-INTERVAL;VALUE=DURATION:PT1H
X-Robots-Tag:noindex
X-PUBLISHED-TTL:PT1H
BEGIN:VTIMEZONE
TZID:America/Los_Angeles
BEGIN:DAYLIGHT
TZOFFSETFROM:-0800
TZOFFSETTO:-0700
TZNAME:PDT
DTSTART:20150308T100000
END:DAYLIGHT
BEGIN:STANDARD
TZOFFSETFROM:-0700
TZOFFSETTO:-0800
TZNAME:PST
DTSTART:20151101T090000
END:STANDARD
BEGIN:DAYLIGHT
TZOFFSETFROM:-0800
TZOFFSETTO:-0700
TZNAME:PDT
DTSTART:20160313T100000
END:DAYLIGHT
BEGIN:STANDARD
TZOFFSETFROM:-0700
TZOFFSETTO:-0800
TZNAME:PST
DTSTART:20161106T090000
END:STANDARD
BEGIN:DAYLIGHT
TZOFFSETFROM:-0800
TZOFFSETTO:-0700
TZNAME:PDT
DTSTART:20170312T100000
END:DAYLIGHT
BEGIN:STANDARD
TZOFFSETFROM:-0700
TZOFFSETTO:-0800
TZNAME:PST
DTSTART:20171105T090000
END:STANDARD
END:VTIMEZONE
BEGIN:VEVENT
DTSTART;TZID=America/Los_Angeles:20160810T190000
DTEND;TZID=America/Los_Angeles:20160810T210000
DTSTAMP:20260424T163610
CREATED:20160810T233755Z
LAST-MODIFIED:20160810T235236Z
UID:572-1470855600-1470862800@www.boulevardmusic.com
SUMMARY:Missy Andersen Featuring Mercedes Moore & Sharifah Muhammad at Culver City City Hall-7pm-Free!! Reserved Seats $10
DESCRIPTION:Missy Andersen\nSummer breezes… an intimate courtyard… free parking… and great music. Escape to Culver City to Culver City’s Boulevard Music Summer Festival. This year Boulevard Music presents 6 free concerts on Thursday evenings at 7 pm from July 7 through August 11 in the palm-lined courtyard of Culver City City Hall. Become an entry level sponsor by purchasing one of the 100 premium reserved seats for sale at $10 each per show available at Boulevard Music. Tickets go on sale June 7. These summer concerts are produced by Gary Mandell of Boulevard Music. The Culver City City Hall Courtyard is located at 9770 Culver Blvd. in Downtown Culver City (corner Culver Blvd. and Duquesne Ave.). Parking is free for two hours with concert validation in designated structures in the Downtown area. The courtyard opens at 4:30 pm. No glass containers or alcoholic beverages may be brought into City Hall Courtyard. For more information\, call 310-398-2583.  \nThis week we present in concert Missy Andersen and her band. R&B or RnB\, has meant many things since its beginning as a genre. From 40’s jazz & swing\, 70’s funk\, and 90’s contemporary hip hop and pop\, R&B has had many faces as the genre evolved. Expand the abbreviation to its full name of Rhythm and Blues and one immediately thinks of the 50’s and 60’s when the genre was of a slick mix of Uptown blues\, Memphis soul\, and Southern gospel. This unique period is the songbook for an Evening of Rhythm & Soul with Missy Andersen featuring Mercedes Moore and Sharifah Muhammad. Showcasing soul classics and inspired originals\, the dynamo three-o of blues belters\, shouters\, and foot-stompers promise to remind us what made the music so great. All accomplished singers with their own busy projects and able to command any stage alone\, they’ll combine their powerful voices to perform the music that served as the soundtrack for some of the most significant events in American history. A nominee of the prestigious Blue Music Awards for Soul Blues Female Artist in 2015 and 2016\, Missy Andersen oozes deep\, Southern soul. Self-described as “earthy and organic\,” her gospel-tinged vocals helped secure rave reviews for her sophomore album\, In the Moment\, and a yearend spot on Living Blues Top 50 of 2014. She and her guitarist/bandleader/husband\, Heine\, maintain a busy schedule touring and performing as a duo as well as a band.  \nhttp://www.missyandersen.com \nA frequent performer on national and international blues festival stages\, Mercedes Moore captivates audiences with her sultry voice and elegant presence. A San Diego favorite\, she and her band have developed a following for consistently delivering diverse and danceable rhythms inspired by 50’s and 60’s blues and soul. Whether it’s a soulful ballad or a playful\, jump blues; three-time San Diego Music Award nominee\, Mercedes Moore always delivers the goods with style and grace.  \nhttp://www.mercedesmooreband.com \n Recently featured in San Diego Troubadour\, Sharifah Muhammad is a force that is cannot be denied. Her voice blends power\, range\, and emotion for a style that is uniquely hers – simultaneously contemporary\, yet reminiscent of an earlier era. Lead singer of Sharifah and the Good Thing\, her debut album\, Real Soul-RnB\, was nominated for Best Blues Album at the 2014 San Diego Music Awards and competed for best Self-Produced CD at the 2015 International Blues Challenge in Memphis\, TN.  \nhttp://www.facebook.com/Sharifah-And-The-Good-Thing-572359372823373/ \nCulver City’s Boulevard Music Festival is sponsored by The City of Culver City\, Sony Pictures Entertainment\, Culver Studios\, Boulevard Music\, John Riordan Plumbing\, Culver City Volvo & Mazda\, Palm Court\, Hooman Chevrolet\, D & E Associates\, Swiss Motors\, Combined Properties\, Hillside Memorial Park\, Gates Kingsley Gates\, Crave Desserts\, Bella Vista Pizza\, Cavanaugh Realty\, Public School 310\, Culver Hotel\, Courtyard Marriott\, Michael Kayem Remax Estate Properties\, Tower Insurance\, Dolce Realtors\, Sorrento Market\, Southern California Hospital\, Maxam Properties\, Music Munchers\, Dynagraphics\, Culver City News\, Culver City Observer\, Steeldeck Inc\, Eastman Strings\, Kremona\, Ohana\, Ernie Ball\, and more to be confirmed soon as sponsorships are still available. Your company name could be here.
URL:https://www.boulevardmusic.com/event/missy-andersen-featuring-mercedes-moore-sharifah-muhammad-at-culver-city-city-hall-7pm-free-reserved-seats-10/
LOCATION:Culver City Hall\, 9770 Culver Blvd\, Culver City\, CA\, 90232\, United States
ATTACH;FMTTYPE=image/jpeg:https://www.boulevardmusic.com/wp-content/uploads/2016/07/MissyAndersen_photo03-e1470846659636.jpg
ORGANIZER;CN="Boulevard Music":MAILTO:info@boulevardmusic.com
END:VEVENT
BEGIN:VEVENT
DTSTART;TZID=America/Los_Angeles:20160806T200000
DTEND;TZID=America/Los_Angeles:20160806T220000
DTSTAMP:20260424T163610
CREATED:20160725T042624Z
LAST-MODIFIED:20160726T211543Z
UID:176-1470513600-1470520800@www.boulevardmusic.com
SUMMARY:NUALA KENNEDY
DESCRIPTION:Nuala Kennedy is an internationally renowned traditional Irish singer and flute player\, recently gracing the cover of Irish Music Magazine\, Sing Out! and headlining with her band at international festivals around the world. Also known for her songs and collaborations\, she has performed and recorded with American songwriter Will Oldham (an album that received 5 stars from MOJO magazine) as well as cutting-edge Canadian composer the late Oliver Schroer (an album nominated for a 2012 Canadian Folk Award).\nNuala released her third solo record ‘Noble Stranger’ (Compass Records) in 2012 to critical acclaim. (Visit http://snd.sc/ZvkfpK to hear this music) The Nuala Kennedy Band are at the forefront of the worldwide Celtic music scene\, have a driving contemporary sound and were nominees in the 2013 BBC Alba Scottish Traditional Folk Awards.\nNuala Kennedy and her band\, which itself comprises four outstanding soloists in their respective fields\, have received global plaudits for their fresh and singular take on traditional music:\nNuala Kennedy Band Features:\nNuala Kennedy (IRL) – flute/vocals/whistles\nEamon O Leary (IRL) – guitar/bouzouki (The Alt\, Murphy Beds)\nJohnny Connolly (IRL) – button accordions (Solas)\nMathias Kunzli – (NYC) drums/percussion (Regina Spektor\, Yoyo Ma\, Lauren Hill\, Moby)\nNuala Kennedy\n“Expressive vocal character… virtuosic flute and whistle playing” ****Scotland on Sunday 2014\n“frisky\, excitingly vital and wonderfully original” ****Songlines 2013\n“a flute player and composer of remarkable finesse\, fearless of the unknown” THE IRISH TIMES 2013\n“brimming with infectious enthusiasm and fearless imagination.” Penguin Eggs 2013 \nwww.nualakennedy.com \n 
URL:https://www.boulevardmusic.com/event/nuala-kennedy/
LOCATION:Boulevard Music\, 4316 Sepulveda Blvd.\, Culver City\, CA\, 90230\, United States
ATTACH;FMTTYPE=image/jpeg:https://www.boulevardmusic.com/wp-content/uploads/2016/07/NUALA-KENNEDY.jpg
ORGANIZER;CN="Boulevard Music":MAILTO:info@boulevardmusic.com
END:VEVENT
BEGIN:VEVENT
DTSTART;TZID=America/Los_Angeles:20160730T200000
DTEND;TZID=America/Los_Angeles:20160730T220000
DTSTAMP:20260424T163610
CREATED:20160722T022348Z
LAST-MODIFIED:20161031T054414Z
UID:128-1469908800-1469916000@www.boulevardmusic.com
SUMMARY:JIM CURRY PRESENTS THE MUSIC OF JOHN DENVER
DESCRIPTION:Husband and wife team\, Jim and Anne Curry (with the special\naddition of Chris Wills on keyboard) deliver the multi-platinum hits of the great John Denver in a fun-filled evening of singing and stories. Jim plays the guitar and sings John’s songs in a crystal clear tenor that will take your breath away. Anne\, his wife and musical partner\, plays guitar and mandolin and sings harmony in all the right places. You’ll be invited to sing along\, share in the memories\, learn new songs and howl at the moon (literally!) The music of the late John Denver is like an old friend\, outlasting trends and standing the test of time. Join acclaimed performer Jim Curry for this tribute to the music of one of the most beloved singer/songwriters ever to grace the stage. Tribute artist Jim Curry\, who’s voice was heard in the CBS-TV movie Take Me Home: The John Denver Story\, has performed Denver’s music in sold out shows throughout the country and has emerged as today’s top performer of Denver’s vast legacy of multi-platinum hits. Jim’s uncanny ability to mirror John’s voice and clean-cut look takes you back to the time when “Rocky Mountain High” “Sunshine” “Calypso” and “Annie’s Song” topped the charts\, and his popular music had the heartfelt message of caring for the earth and caring for each other. Denver’s message is worth repeating: “Be kind to the Earth and to each other. ” Jim will appear with his wife\, Anne who plays mandolin and guitar\, sings harmony and generally keeps Jim in line! Together\, they will take you on a musical journey of the heart\, where you will be invited to sing\, clap your hands\, stomp your feet and howl at the moon. Don’t worry\, you already know the words to the songs. \nAll ticket sales are final. They are non-refundable and non-exchangeable.  \nPlease note all shows start at 8pm and doors open at 7:30pm unless indicated otherwise. Advanced purchase ticket holders may enter when the doors open at 7:30 pm. After the advanced purchase ticket holders are admitted\, any remaining tickets will go on sale. \n[tc_ticket id=”170″ title=”Buy your tickets now!” show_price=”true” type=”buynow”]
URL:https://www.boulevardmusic.com/event/jim-curry-presents-the-music-of-john-denver/
LOCATION:Boulevard Music\, 4316 Sepulveda Blvd.\, Culver City\, CA\, 90230\, United States
CATEGORIES:Live Music
ATTACH;FMTTYPE=image/jpeg:https://www.boulevardmusic.com/wp-content/uploads/2016/07/Jim-Curry-.jpg
ORGANIZER;CN="Boulevard Music":MAILTO:info@boulevardmusic.com
END:VEVENT
END:VCALENDAR